BEGIN:VCALENDAR
VERSION:2.0
PRODID:-//PROFILSUP, prépa Médecine : PACES, PASS et L.AS, à Tours, Poitiers, et Angers - ECPv5.2.1//NONSGML v1.0//EN
CALSCALE:GREGORIAN
METHOD:PUBLISH
X-WR-CALNAME:PROFILSUP, prépa Médecine : PACES, PASS et L.AS, à Tours, Poitiers, et Angers
X-ORIGINAL-URL:https://www.profilsup.fr
X-WR-CALDESC:évènements pour PROFILSUP, prépa Médecine : PACES, PASS et L.AS, à Tours, Poitiers, et Angers
BEGIN:VTIMEZONE
TZID:UTC
BEGIN:STANDARD
TZOFFSETFROM:+0000
TZOFFSETTO:+0000
TZNAME:UTC
DTSTART:20210101T000000
END:STANDARD
END:VTIMEZONE
BEGIN:VEVENT
DTSTART;TZID=UTC:20210113T160000
DTEND;TZID=UTC:20210113T180000
DTSTAMP:20260420T012325
CREATED:20201123T091819Z
LAST-MODIFIED:20201222T105256Z
UID:5899-1610553600-1610560800@www.profilsup.fr
SUMMARY:Poitiers : cours découverte virtuel Médecine - mercredi 13 janvier 2021
DESCRIPTION:PROGRAMME\n\nPrésentation de la L.AS\, du programme des semestres\nCours/TD d’anatomie\nPrésentation de la prépa\, fonctionnement\, inscription\nTemps d’échange pour répondre aux éventuelles questions\n\n  \nDurée de la séance : 2h \nInscrivez-vous pour participer à notre cours découverte virtuel Médecine en visio conférence.\nInscription réservée aux élèves de première ou terminale. \nCliquez-ici pour vous inscrire
URL:https://www.profilsup.fr/les-dates-cles/poitiers-cours-decouverte-virtuel-medecine-mercredi-13-janvier-2021/
LOCATION:Evénement en ligne
CATEGORIES:Cours découverte médecine
END:VEVENT
END:VCALENDAR