BEGIN:VCALENDAR
VERSION:2.0
PRODID:-//PROFILSUP, prépa Médecine : PACES, PASS et L.AS, à Tours, Poitiers, et Angers - ECPv5.2.1//NONSGML v1.0//EN
CALSCALE:GREGORIAN
METHOD:PUBLISH
X-WR-CALNAME:PROFILSUP, prépa Médecine : PACES, PASS et L.AS, à Tours, Poitiers, et Angers
X-ORIGINAL-URL:https://www.profilsup.fr
X-WR-CALDESC:évènements pour PROFILSUP, prépa Médecine : PACES, PASS et L.AS, à Tours, Poitiers, et Angers
BEGIN:VTIMEZONE
TZID:UTC
BEGIN:STANDARD
TZOFFSETFROM:+0000
TZOFFSETTO:+0000
TZNAME:UTC
DTSTART:20220101T000000
END:STANDARD
END:VTIMEZONE
BEGIN:VEVENT
DTSTART;TZID=UTC:20220423T103000
DTEND;TZID=UTC:20220423T123000
DTSTAMP:20260423T034920
CREATED:20220324T140247Z
LAST-MODIFIED:20220325T084447Z
UID:8108-1650709800-1650717000@www.profilsup.fr
SUMMARY:Rennes : cours découverte virtuel Médecine - samedi 23 avril 2022
DESCRIPTION:  \nNous vous invitons à notre prochain Cours découverte virtuel Médecine – IRSS SANTÉ PROFILSUP Rennes ! \n  \nRendez-vous samedi 23 avril de 10h30 à 12h30 pour un cours de Biologie Cellulaire VIRTUEL. \n\nCours interactif.\nInitiation aux entraînements type QCM.\nQuestions-réponses.\n\n  \nCe cours INÉDIT aura lieu en visioconférence.\nVous pouvez y assister même si vous avez déjà suivi un de nos précédents cours. \nInscrivez-vous pour participer à un cours découverte virtuel Médecine.\nInscription réservée aux élèves de première ou terminale. \nCliquez-ici pour vous inscrire\n 
URL:https://www.profilsup.fr/les-dates-cles/rennes-cours-decouverte-virtuel-medecine-23-avril-2022/
LOCATION:Evénement en ligne
CATEGORIES:Cours découverte médecine
END:VEVENT
END:VCALENDAR