BEGIN:VCALENDAR
VERSION:2.0
PRODID:-//PROFILSUP, prépa Médecine : PACES, PASS et L.AS, à Tours, Poitiers, et Angers - ECPv5.2.1//NONSGML v1.0//EN
CALSCALE:GREGORIAN
METHOD:PUBLISH
X-WR-CALNAME:PROFILSUP, prépa Médecine : PACES, PASS et L.AS, à Tours, Poitiers, et Angers
X-ORIGINAL-URL:https://www.profilsup.fr
X-WR-CALDESC:évènements pour PROFILSUP, prépa Médecine : PACES, PASS et L.AS, à Tours, Poitiers, et Angers
BEGIN:VTIMEZONE
TZID:UTC
BEGIN:STANDARD
TZOFFSETFROM:+0000
TZOFFSETTO:+0000
TZNAME:UTC
DTSTART:20210101T000000
END:STANDARD
END:VTIMEZONE
BEGIN:VEVENT
DTSTART;TZID=UTC:20210417T100000
DTEND;TZID=UTC:20210417T160000
DTSTAMP:20260424T163248
CREATED:20210329T133901Z
LAST-MODIFIED:20210329T134457Z
UID:7005-1618653600-1618675200@www.profilsup.fr
SUMMARY:Rennes : cours découverte virtuels Médecine - samedi 17 avril 2021
DESCRIPTION:  \nNous vous invitons à nos prochains Cours découverte virtuels Médecine – IRSS SANTÉ PROFILSUP Rennes. \n  \n2 cours au choix le samedi 17 avril 2021 : \n• 10h à 12h : méthodologie/anatomie\n• 14h à 16h : biologie cellulaire \nInscription possible aux 2 cours virtuels.\nAttention\, cours identiques à ceux du samedi 27 mars 2021. \nSi vous avez déjà participé et apprécié les cours découverte précédents\, sachez que nous proposons un stage Passerelle Sup Médecine beaucoup plus complet du 26 au 29 avril 2021.\nPlus d’informations ICI \n  \nInscrivez-vous pour participer à un cours découverte virtuel Médecine en visio conférence.\nInscription réservée aux élèves de première ou terminale. \nCliquez-ici pour vous inscrire
URL:https://www.profilsup.fr/les-dates-cles/rennes-cours-decouverte-virtuels-medecine-samedi-17-avril-2021/
LOCATION:Evénement en ligne
CATEGORIES:Cours découverte médecine
END:VEVENT
END:VCALENDAR